BEGIN:VCALENDAR
VERSION:2.0
PRODID:-//The Masonry Society - ECPv6.15.14//NONSGML v1.0//EN
CALSCALE:GREGORIAN
METHOD:PUBLISH
X-ORIGINAL-URL:https://temp.masonrysociety.org
X-WR-CALDESC:Events for The Masonry Society
REFRESH-INTERVAL;VALUE=DURATION:PT1H
X-Robots-Tag:noindex
X-PUBLISHED-TTL:PT1H
BEGIN:VTIMEZONE
TZID:America/Los_Angeles
BEGIN:DAYLIGHT
TZOFFSETFROM:-0800
TZOFFSETTO:-0700
TZNAME:PDT
DTSTART:20240310T100000
END:DAYLIGHT
BEGIN:STANDARD
TZOFFSETFROM:-0700
TZOFFSETTO:-0800
TZNAME:PST
DTSTART:20241103T090000
END:STANDARD
BEGIN:DAYLIGHT
TZOFFSETFROM:-0800
TZOFFSETTO:-0700
TZNAME:PDT
DTSTART:20250309T100000
END:DAYLIGHT
BEGIN:STANDARD
TZOFFSETFROM:-0700
TZOFFSETTO:-0800
TZNAME:PST
DTSTART:20251102T090000
END:STANDARD
BEGIN:DAYLIGHT
TZOFFSETFROM:-0800
TZOFFSETTO:-0700
TZNAME:PDT
DTSTART:20260308T100000
END:DAYLIGHT
BEGIN:STANDARD
TZOFFSETFROM:-0700
TZOFFSETTO:-0800
TZNAME:PST
DTSTART:20261101T090000
END:STANDARD
END:VTIMEZONE
BEGIN:VEVENT
DTSTART;TZID=America/Los_Angeles:20250414T080000
DTEND;TZID=America/Los_Angeles:20250416T120000
DTSTAMP:20260420T020015
CREATED:20240509T213226Z
LAST-MODIFIED:20250124T221201Z
UID:68036-1744617600-1744804800@temp.masonrysociety.org
SUMMARY:2025 Spring Meeting
DESCRIPTION:The Masonry Society’s 2025 Spring Meeting will be held in Spokane\, WA at the Northern Quest Resort & Casino. \nThe meeting schedule and registration information will be available in January 2025. \nVisit the meeting page for more information.
URL:https://temp.masonrysociety.org/event/2025-spring-meeting/
LOCATION:Northern Quest Resort & Casino\, 100 N Hayford Rd\, Airway Heights\, WA\, 99001\, United States
CATEGORIES:Spring Meeting,TMS Meetings
END:VEVENT
END:VCALENDAR